Workbook
Name ACC: #REF!
Name ACC_O: '[1]Validation & Overrides'!$G$12
Name ADJ: '[1]Validation & Overrides'!$C$5
Name Adj_Switch: #REF!
Name ATimeBlkA: OFFSET([1]Periods!$AQ$43,0,0,1,-NumPds)
Name ATimeBlkQ: OFFSET([1]Periods!$AQ$45,0,0,1,-NumPds)
Name ATimeBlkQQQQY: OFFSET([1]Periods!$AQ$48,0,0,1,-NumPds)
Name ATimeBlkSA: OFFSET([1]Periods!$AQ$44,0,0,1,-NumPds)
Name ATimeBlkSSY: OFFSET([1]Periods!$AQ$53,0,0,1,-NumPds)
Name BB_CURNCY_TABLE: '[2]Calc Data'!$G$18:$I$29
Name BB_DISP_ORDER_TABLE: '[2]Calc Data'!$C$18:$E$19
Name BB_FA_STATEMENTS: OFFSET('[2]Calc Data'!$P$15,0,0,'[2]Calc Data'!$P$10)
Name BB_PERIOD_TABLE: '[2]Calc Data'!$K$18:$M$25
Name BB_SELECT_CURRENCY: '[2]Calc Data'!$E$4
Name BB_TICKER: '[2]Calc Data'!$B$1
Name BSGridNames: [1]BS!$A$1:$AK$1
Name BSGrids: [1]BS!$A$2:$AK$112
Name CFGrids: [1]CF!$A$2:$AK$112
Name CFGridsName: [1]CF!$A$1:$AK$1
Name CONS: '[1]Validation & Overrides'!$I$5
Name CONS_O: '[1]Validation & Overrides'!$C$12
Name CURR: #REF!
Name CURR_O: '[1]Validation & Overrides'!$E$12
Name DTimeBlkA: OFFSET([1]Periods!$D$27,0,0,1,NumPds)
Name DTimeBlkQ: OFFSET([1]Periods!$D$29,0,0,1,NumPds)
Name DTimeBlkQQQQY: OFFSET([1]Periods!$D$32,0,0,1,NumPds)
Name DTimeBlkSA: OFFSET([1]Periods!$D$28,0,0,1,NumPds)
Name DTimeBlkSSY: OFFSET([1]Periods!$D$37,0,0,1,NumPds)
Name FormatRangeBS: #REF!
Name FormatRangeCF: #REF!
Name FormatRangeIS: #REF!
Name FormatRangeRA: #REF!
Name FormatRangeRC: #REF!
Name FormatRangeSBC: #REF!
Name Indicator: '[1]Validation & Overrides'!$B$15
Name ISGridNames: [1]IS!$A$1:$BU$1
Name ISGrids: [1]IS!$A$2:$BU$200
Name NumPds: #REF!
Name PER: '[1]Validation & Overrides'!$F$5
Name PERD: #REF!
Name POrder: #REF!
Name RAGridNames: [1]RA!$A$1:$Y$1
Name RAGrids: [1]RA!$A$2:$Y$20
Name RCGridNames: [1]RC!$A$1:$Y$1
Name RCGrids: [1]RC!$A$2:$Y$150
Name SAGridNames: [1]SA!$A$1:$Y$1
Name SAGrids: [1]SA!$A$2:$Y$150
Name StartPoint: #REF!
Name TK: #REF!
Name TKR: #REF!&" Equity"

Sheet IS
A1: NIKE Inc (NYS: NKE)
A3: Exchange rate used is that of the Year End reported date
A4: (in thousands except per share values)
A5: 1 | B5: 2 | C5: 3 | D5: 4 | E5: 5 | F5: 6 | G5: 7 | H5: 8 | I5: 9 | J5: 10 | K5: 11
A6: As Reported Annual Income Statement | B6: 2006 | C6: 2007 | D6: 2008 | E6: 2009 | F6: 2010 | G6: 2011 | H6: 2012 | I6: 2013 | J6: 2014 | K6: 2015
A7: Revenues | B7: 14954900 | C7: 16325900 | D7: 18627000 | E7: 19176100 | F7: 19014000 | G7: 20862000 | H7: 24128000 | I7: 25313000 | J7: 27799000 | K7: 30601000
A8: Cost of sales | B8: 8367900 | C8: 9165400 | D8: 10239600 | E8: 10571700 | F8: 10213600 | G8: 11354000 | H8: 13657000 | I8: 14279000 | J8: 15353000 | K8: 16534000
A9: Gross profit | B9: 6587000 | C9: 7160500 | D9: 8387400 | E9: 8604400 | F9: 8800400 | G9: 9508000 | H9: 10471000 | I9: 11034000 | J9: 12446000 | K9: 14067000
A10: Demand creation expense | B10: - | C10: - | D10: - | E10: - | F10: - | G10: 2448000 | H10: 2711000 | I10: 2745000 | J10: 3031000 | K10: 3213000
A11: Operating overhead expense | B11: - | C11: - | D11: - | E11: - | F11: - | G11: 4245000 | H11: 4720000 | I11: 5035000 | J11: 5735000 | K11: 6679000
A12: Total selling & administrative expense | B12: 4477800 | C12: 5028700 | D12: 5953700 | E12: 6149600 | F12: 6326400 | G12: 6693000 | H12: 7431000 | I12: 7780000 | J12: 8766000 | K12: 9892000
A13: Restructuring charges | B13: - | C13: - | D13: - | E13: 195000 | F13: - | G13: - | H13: - | I13: - | J13: - | K13: -
A14: Goodwill impairment | B14: - | C14: - | D14: - | E14: 199300 | F14: - | G14: - | H14: - | I14: - | J14: - | K14: -
A15: Intangible & other asset impairment | B15: - | C15: - | D15: - | E15: 202000 | F15: - | G15: - | H15: - | I15: - | J15: - | K15: -
A16: Interest income (expense), net | B16: 36800 | C16: 67200 | D16: 77100 | E16: 9500 | F16: -6300 | G16: -4000 | H16: -3000 | I16: 3000 | J16: -33000 | K16: -28000
A17: Other expense (income), net | B17: 4400 | C17: -900 | D17: 7900 | E17: -88500 | F17: -49200 | G17: -33000 | H17: 54000 | I17: -15000 | J17: 103000 | K17: -58000
A18: Income (loss) before income taxes - United States | B18: 838600 | C18: 805100 | D18: 713000 | E18: 845700 | F18: 698600 | G18: 1084000 | H18: 792000 | I18: 1240000 | J18: 3066000 | K18: 1967000
A19: Income (loss) before income taxes - foreign | B19: 1303000 | C19: 1394800 | D19: 1789900 | E19: 1110800 | F19: 1818300 | G19: 1760000 | H19: 2191000 | I19: 2032000 | J19: 478000 | K19: 2238000
A20: Income (loss) before income taxes | B20: 2141600 | C20: 2199900 | D20: 2502900 | E20: 1956500 | F20: 2516900 | G20: 2844000 | H20: 2983000 | I20: 3272000 | J20: 3544000 | K20: 4205000
A21: Current provision (benefit) for income taxes - federal | B21: 359000 | C21: 352600 | D21: 469900 | E21: 410100 | F21: 200200 | G21: 289000 | H21: 274000 | I21: 434000 | J21: 371000 | K21: 596000
A22: Current provision (benefit) for income taxes - state | B22: 60600 | C22: 59600 | D22: 58400 | E22: 46100 | F22: 50000 | G22: 57000 | H22: 51000 | I22: 69000 | J22: 93000 | K22: 80000
A23: Current provision (benefit) for income taxes - foreign | B23: 356000 | C23: 261900 | D23: 391800 | E23: 307700 | F23: 348500 | G23: 441000 | H23: 495000 | I23: 398000 | J23: 398000 | K23: 369000
A24: Total current provision (benefit) for income taxes | B24: 775600 | C24: 674100 | D24: 920100 | E24: 763900 | F24: 598700 | G24: 787000 | H24: 820000 | I24: 901000 | J24: 862000 | K24: 1045000
A25: Deferred provision (benefit) for income taxes - federal | B25: -4200 | C25: 38700 | D25: -273000 | E25: -251400 | F25: 17700 | G25: -61000 | H25: -54000 | I25: 1000 | J25: 8000 | K25: -66000
A26: Deferred provision (benefit) for income taxes - state | B26: -6800 | C26: -4800 | D26: -5000 | E26: -7900 | F26: -1100 | G26: - | H26: 4000 | I26: -4000 | J26: -3000 | K26: -11000
A27: Deferred provision (benefit) for income tax - foreign | B27: -15000 | C27: 400 | D27: -22600 | E27: -34800 | F27: -5100 | G27: -15000 | H27: -10000 | I27: -90000 | J27: -16000 | K27: -36000
A28: Total deferred provision (benefit) for income taxes | B28: -26000 | C28: 34300 | D28: -300600 | E28: -294100 | F28: 11500 | G28: -76000 | H28: -60000 | I28: -93000 | J28: -11000 | K28: -113000
A29: Income tax expense (benefit) | B29: 749600 | C29: 708400 | D29: 619500 | E29: 469800 | F29: 610200 | G29: 711000 | H29: 760000 | I29: 808000 | J29: 851000 | K29: 932000
A30: Net income from continuing operations | B30: ` | C30: - | D30: - | E30: - | F30: - | G30: - | H30: - | I30: 2464000 | J30: 2693000 | K30: 3273000
A31: Income (loss) from discontinued operations | B31: - | C31: - | D31: - | E31: - | F31: - | G31: - | H31: - | I31: 21000 | J31: - | K31: -
A32: Net income (loss) | B32: 1392000 | C32: 1491500 | D32: 1883400 | E32: 1486700 | F32: 1906700 | G32: 2133000 | H32: 2223000 | I32: 2485000 | J32: 2693000 | K32: 3273000
A33: Weighted average shares outstanding - basic | B33: 1036000 | C33: 1007600 | D33: 991200 | E33: 969800 | F33: 971000 | G33: 951000 | H33: 920000 | I33: 897300 | J33: 883400 | K33: 861700
A34: Weighted average shares outstanding - diluted | B34: 1055200 | C34: 1019800 | D34: 1008200 | E34: 981400 | F34: 987800 | G34: 971400 | H34: 939600 | I34: 916400 | J34: 905800 | K34: 884400
A35: Year end shares outstanding | B35: 1024000 | C35: 1003400 | D35: 982200 | E35: 971000 | F35: 968000 | G35: 936000 | H35: 916000 | I35: 894000 | J35: 870000 | K35: 857000
A36: Income (loss) per common share - continuing operations - basic | B36: 1.343 | C36: - | D36: - | E36: - | F36: - | G36: - | H36: - | I36: 2.75 | J36: 3.05 | K36: 3.8
A37: Income (loss) per share - discontinued operations - basic | B37: - | C37: - | D37: - | E37: - | F37: - | G37: - | H37: - | I37: 0.02 | J37: - | K37: -
A38: Net income (loss) per common share - basic | B38: 1.343 | C38: 1.48 | D38: 1.9 | E38: 1.535 | F38: 1.965 | G38: 2.24 | H38: 2.415 | I38: 2.77 | J38: 3.05 | K38: 3.8
A39: Income (loss) per common share - continuing operations - diluted | B39: 1.32 | C39: - | D39: - | E39: - | F39: - | G39: - | H39: - | I39: 2.69 | J39: 2.97 | K39: 3.7
A40: Income (loss) per share - discontinued operations - diluted | B40: - | C40: - | D40: - | E40: - | F40: - | G40: - | H40: - | I40: 0.02 | J40: - | K40: -
A41: Net income (loss) per common share - diluted | B41: 1.32 | C41: 1.465 | D41: 1.87 | E41: 1.515 | F41: 1.93 | G41: 2.195 | H41: 2.365 | I41: 2.71 | J41: 2.97 | K41: 3.7
...

Sheet BS
A1: NIKE Inc (NYS: NKE)
P2: Indicates accounts that comprise Capital
A3: Exchange rate used is that of the Year End reported date
A4: (in thousands except per share values)
A5: 1 | B5: 2 | C5: 3 | D5: 4 | E5: 5 | F5: 6 | G5: 7 | H5: 8 | I5: 9 | J5: 10 | K5: 11
A6: As Reported Annual Balance Sheet | B6: 2006 | C6: 2007 | D6: 2008 | E6: 2009 | F6: 2010 | G6: 2011 | H6: 2012 | I6: 2013 | J6: 2014 | K6: 2015
A7: Cash & equivalents | B7: 954200 | C7: 1856700 | D7: 2133900 | E7: 2291100 | F7: 3079100 | G7: 1955000 | H7: 2317000 | I7: 3337000 | J7: 2220000 | K7: 3852000
A8: Short-term investments | B8: 1348800 | C8: 990300 | D8: 642200 | E8: 1164000 | F8: 2066800 | G8: 2583000 | H8: 1440000 | I8: 2628000 | J8: 2922000 | K8: 2072000
A9: Accounts receivable, gross | B9: 2463500 | C9: 2566200 | D9: 2873700 | E9: 2994700 | F9: 2766500 | G9: 3262000 | H9: 3375000 | I9: 3221000 | J9: 3512000 | K9: 3436000
A10: Less: allowance for uncollectible accounts receivable | B10: 67600 | C10: 71500 | D10: 78400 | E10: 110800 | F10: 116700 | G10: 124000 | H10: 95000 | I10: 104000 | J10: 78000 | K10: 78000
A11: Accounts receivable, net | B11: 2395900 | C11: 2494700 | D11: 2795300 | E11: 2883900 | F11: 2649800 | G11: 3138000 | H11: 3280000 | I11: 3117000 | J11: 3434000 | K11: 3358000
A12: Finished goods | B12: - | C12: 2121900 | D12: 2438400 | E12: 2357000 | F12: 2040800 | G12: 2715000 | H12: 3350000 | I12: 3434000 | J12: 3947000 | K12: 4337000
A13: Inventories | B13: 2076700 | C13: 2121900 | D13: 2438400 | E13: 2357000 | F13: 2040800 | G13: 2715000 | H13: 3350000 | I13: 3434000 | J13: 3947000 | K13: 4337000
A14: Deferred income taxes | B14: 203300 | C14: 219700 | D14: 227200 | E14: 272400 | F14: 248800 | G14: 312000 | H14: 274000 | I14: 308000 | J14: 355000 | K14: 389000
A15: Prepaid expenses & other current assets | B15: 380100 | C15: 393200 | D15: 602300 | E15: 765600 | F15: 873900 | G15: 594000 | H15: 870000 | I15: 802000 | J15: 818000 | K15: 1968000
A16: Total current assets | B16: 7359000 | C16: 8076500 | D16: 8839300 | E16: 9734000 | F16: 10959200 | G16: 11297000 | H16: 11531000 | I16: 13626000 | J16: 13696000 | K16: 15976000
A17: Land | B17: 195900 | C17: 193800 | D17: 209400 | E17: 221600 | F17: 222800 | G17: 237000 | H17: 252000 | I17: 268000 | J17: 270000 | K17: 273000
A18: Buildings | B18: 842600 | C18: 840900 | D18: 934600 | E18: 974000 | F18: 951900 | G18: 1124000 | H18: 1158000 | I18: 1174000 | J18: 1261000 | K18: 1250000
A19: Machinery & equipment | B19: 1661700 | C19: 1817200 | D19: 2005000 | E19: 2094300 | F19: 2217500 | G19: 2487000 | H19: - | I19: - | J19: - | K19: -
A20: Machinery, equipment & internal-use software | B20: - | C20: - | D20: - | E20: - | F20: - | G20: - | H20: 2755000 | I20: 2985000 | J20: 3376000 | K20: 3329000
A21: Leasehold improvements | B21: 626700 | C21: 672800 | D21: 757300 | E21: 802000 | F21: 820600 | G21: 931000 | H21: 968000 | I21: 945000 | J21: 1066000 | K21: 1150000
A22: Construction in process | B22: 81400 | C22: 94400 | D22: 196700 | E22: 163800 | F22: 177000 | G22: 127000 | H22: 111000 | I22: 128000 | J22: 247000 | K22: 350000
A23: Total property, plant & equipment, gross | B23: 3408300 | C23: 3619100 | D23: 4103000 | E23: 4255700 | F23: 4389800 | G23: 4906000 | H23: 5244000 | I23: 5500000 | J23: 6220000 | K23: 6352000
A24: Less: accumulated depreciation | B24: 1750600 | C24: 1940800 | D24: 2211900 | E24: 2298000 | F24: 2457900 | G24: 2791000 | H24: 2965000 | I24: 3048000 | J24: 3386000 | K24: 3341000
A25: Property, plant & equipment, net | B25: 1657700 | C25: 1678300 | D25: 1891100 | E25: 1957700 | F25: 1931900 | G25: 2115000 | H25: 2279000 | I25: 2452000 | J25: 2834000 | K25: 3011000
A26: Identifiable intangible assets, net | B26: 405500 | C26: 409900 | D26: 743100 | E26: 467400 | F26: 467000 | G26: 487000 | H26: 535000 | I26: 382000 | J26: 282000 | K26: 281000
A27: Goodwill | B27: 130800 | C27: 130800 | D27: 448800 | E27: 193500 | F27: 187600 | G27: 205000 | H27: 201000 | I27: 131000 | J27: 131000 | K27: 131000
A28: Deferred income taxes & other assets | B28: 316600 | C28: 392800 | D28: 520400 | E28: 897000 | F28: 873600 | G28: 894000 | H28: 919000 | I28: 993000 | J28: 1651000 | K28: 2201000
A29: Total assets | B29: 9869600 | C29: 10688300 | D29: 12442700 | E29: 13249600 | F29: 14419300 | G29: 14998000 | H29: 15465000 | I29: 17584000 | J29: 18594000 | K29: 21600000
A30: Current portion of long-term debt | B30: 255300 | C30: 30500 | D30: 6300 | E30: 32000 | F30: 7400 | G30: 200000 | H30: 49000 | I30: 57000 | J30: 7000 | K30: 107000
A31: Notes payable | B31: 43400 | C31: 100800 | D31: 177700 | E31: 342900 | F31: 138600 | G31: 187000 | H31: 108000 | I31: 121000 | J31: 167000 | K31: 74000
A32: Accounts payable | B32: 952200 | C32: 1040300 | D32: 1287600 | E32: 1031900 | F32: 1254500 | G32: 1469000 | H32: 1588000 | I32: 1646000 | J32: 1930000 | K32: 2131000
A33: Accrued compensation & benefits, excluding taxes | B33: 427200 | C33: 451600 | D33: 538000 | E33: 491900 | F33: 598800 | G33: 628000 | H33: 711000 | I33: 713000 | J33: 782000 | K33: 997000
A34: Accrual collateral received from counterparties to hedging instruments | B34: - | C34: - | D34: - | E34: - | F34: - | G34: - | H34: - | I34: - | J34: - | K34: 968000
A35: Accrued endorsement compensation | B35: 124700 | C35: 139900 | D35: 203500 | E35: 237100 | F35: 266900 | G35: 284000 | H35: 294000 | I35: 264000 | J35: 328000 | K35: 388000
A36: Accrued dividends payable | B36: 79500 | C36: 92900 | D36: 112900 | E36: 121400 | F36: 130700 | G36: 145000 | H36: 165000 | I36: 188000 | J36: 209000 | K36: 240000
A37: Accrued import & logistics costs | B37: - | C37: 81400 | D37: 78800 | E37: 59400 | F37: 80000 | G37: 98000 | H37: 133000 | I37: 111000 | J37: 127000 | K37: 207000
A38: Accrud taxes other than income taxes | B38: 115100 | C38: 133400 | D38: 147600 | E38: 161900 | F38: 157900 | G38: 214000 | H38: 179000 | I38: 192000 | J38: 204000 | K38: 174000
A39: Accrued fair value of derivatives | B39: 111200 | C39: 90500 | D39: 173300 | E39: 68900 | F39: 163600 | G39: 186000 | H39: 55000 | I39: 34000 | J39: 85000 | K39: 162000
A40: Accrued advertising & marketing | B40: 75400 | C40: 70600 | D40: 121400 | E40: 97600 | F40: 124900 | G40: 139000 | H40: 132000 | I40: 77000 | J40: 133000 | K40: 117000
...

Sheet SCFs
A1: NIKE Inc (NYS: NKE)
A3: Exchange rate used is that of the Year End reported date
A4: (in thousands except per share values)
A6: As Reported Annual Cash Flow | B6: 2006 | C6: 2007 | D6: 2008 | E6: 2009 | F6: 2010 | G6: 2011 | H6: 2012 | I6: 2013 | J6: 2014 | K6: 2015
A7: Net income (loss) | B7: 1392000 | C7: 1491500 | D7: 1883400 | E7: 1486700 | F7: 1906700 | G7: 2133000 | H7: 2223000 | I7: 2485000 | J7: 2693000 | K7: 3273000
A8: Depreciation | B8: 282000 | C8: 269700 | D8: 303600 | E8: 335000 | F8: 323700 | G8: 335000 | H8: 373000 | I8: 438000 | J8: 518000 | K8: 606000
A9: Deferred income taxes | B9: -26000 | C9: 34100 | D9: -300600 | E9: -294100 | F9: 8300 | G9: -76000 | H9: -60000 | I9: 21000 | J9: -11000 | K9: -113000
A10: Stock-based compensation | B10: - | C10: 147700 | D10: 141000 | E10: 170600 | F10: 159000 | G10: 105000 | H10: 130000 | I10: 174000 | J10: 177000 | K10: 191000
A11: Impairment of goodwill, intangibles & other assets | B11: - | C11: - | D11: - | E11: 401300 | F11: - | G11: - | H11: - | I11: - | J11: - | K11: -
A12: Amortization & other | B12: - | C12: - | D12: - | E12: - | F12: - | G12: - | H12: - | I12: - | J12: - | K12: 43000
A13: Net foreign currency adjustments | B13: - | C13: - | D13: - | E13: - | F13: - | G13: - | H13: - | I13: - | J13: - | K13: 424000
A14: Amortization & other income charges (credits) not affecting cash | B14: 8900 | C14: 500 | D14: 17900 | E14: 48300 | F14: 71800 | G14: 23000 | H14: 32000 | I14: 75000 | J14: 114000 | K14: -
A15: Net loss (gain) on divestitures | B15: - | C15: - | D15: -60600 | E15: - | F15: - | G15: - | H15: - | I15: -124000 | J15: - | K15: -
A16: Income tax benefit from exercise of stock options | B16: 54200 | C16: - | D16: - | E16: - | F16: - | G16: - | H16: - | I16: - | J16: - | K16: -
A17: Accounts receivable | B17: -85100 | C17: -39600 | D17: -118300 | E17: -238000 | F17: 181700 | G17: -273000 | H17: -323000 | I17: 142000 | J17: -298000 | K17: -216000
A18: Inventories | B18: -200300 | C18: -49500 | D18: -249800 | E18: 32200 | F18: 284600 | G18: -551000 | H18: -805000 | I18: -197000 | J18: -505000 | K18: -621000
A19: Prepaid expenses & other current assets | B19: -37200 | C19: -60800 | D19: -11200 | E19: 14100 | F19: -69600 | G19: -35000 | H19: -141000 | I19: -28000 | J19: -210000 | K19: -144000
A20: Accounts payable, accrued liabilities & income taxes payable | B20: 279400 | C20: 85100 | D20: 330900 | E20: -220000 | F20: 298000 | G20: 151000 | H20: 470000 | I20: 41000 | J20: 525000 | K20: 1237000
A21: Net cash flows from operating activities | B21: 1667900 | C21: 1878700 | D21: 1936300 | E21: 1736100 | F21: 3164200 | G21: 1812000 | H21: 1899000 | I21: 3027000 | J21: 3003000 | K21: 4680000
A22: Purchases of short-term investments | B22: -2619700 | C22: -2133800 | D22: -1865600 | E22: -2908700 | F22: -3724400 | G22: -7616000 | H22: -2705000 | I22: -3702000 | J22: -5386000 | K22: -4936000
A23: Maturities of short-term investments | B23: 1709800 | C23: 2516200 | D23: 2246000 | E23: 2390000 | F23: 2787600 | G23: 4313000 | H23: 2585000 | I23: 1501000 | J23: 3932000 | K23: 3655000
A24: Sales of short-term investments | B24: - | C24: - | D24: - | E24: - | F24: - | G24: 2766000 | H24: 1244000 | I24: 998000 | J24: 1126000 | K24: 2216000
A25: Investments in reverse repurchase agreements | B25: - | C25: - | D25: - | E25: - | F25: - | G25: - | H25: - | I25: - | J25: - | K25: -150000
A26: Additions to property, plant & equipment | B26: -333700 | C26: -313500 | D26: -449200 | E26: -455700 | F26: -335100 | G26: -432000 | H26: -597000 | I26: -636000 | J26: -880000 | K26: -963000
A27: Disposals of property, plant & equipment | B27: 1600 | C27: 28300 | D27: 1900 | E27: 32000 | F27: 10100 | G27: 1000 | H27: 2000 | I27: 14000 | J27: 3000 | K27: 3000
A28: Proceeds from divestitures | B28: - | C28: - | D28: 246000 | E28: - | F28: - | G28: - | H28: - | I28: 786000 | J28: - | K28: -
A29: Increase in other assets, net of other liablities | B29: -30300 | C29: -4300 | D29: -21800 | E29: -47000 | F29: -11200 | G29: -30000 | H29: -37000 | I29: -28000 | J29: -2000 | K29: -
A30: Settlement of net investment hedges | B30: - | C30: - | D30: - | E30: 191300 | F30: 5500 | G30: -23000 | H30: 22000 | I30: - | J30: - | K30: -
A31: Acquisition of subsidiary, net assets acquired | B31: - | C31: - | D31: -571100 | E31: - | F31: - | G31: - | H31: - | I31: - | J31: - | K31: -
A32: Increase (decrease) in other liabilities | B32: -4300 | C32: - | D32: - | E32: - | F32: - | G32: - | H32: - | I32: - | J32: - | K32: -
A33: Net cash flows from investing activities | B33: -1276600 | C33: 92900 | D33: -413800 | E33: -798100 | F33: -1267500 | G33: -1021000 | H33: 514000 | I33: -1067000 | J33: -1207000 | K33: -175000
A34: Net proceeds from long-term debt issuance | B34: - | C34: 41800 | D34: - | E34: - | F34: - | G34: - | H34: - | I34: 986000 | J34: - | K34: -
A35: Long-term debt payments, including current portion | B35: -6000 | C35: -255700 | D35: -35200 | E35: -6800 | F35: -32200 | G35: -8000 | H35: -203000 | I35: -49000 | J35: -60000 | K35: -7000
A36: Increase (decrease) in notes payable | B36: -18200 | C36: 52600 | D36: 63700 | E36: 177100 | F36: -205400 | G36: 41000 | H36: -65000 | I36: 15000 | J36: 75000 | K36: -63000
A37: Payments on capital lease obligations | B37: - | C37: - | D37: - | E37: - | F37: - | G37: - | H37: - | I37: - | J37: -17000 | K37: -19000
A38: Proceeds from exercise of stock options & other stock issuances | B38: 225300 | C38: 322900 | D38: 343300 | E38: 186600 | F38: 364500 | G38: 345000 | H38: 468000 | I38: 313000 | J38: 383000 | K38: 514000
A39: Excess tax benefits from share-based payment arrangements | B39: - | C39: 55800 | D39: 63000 | E39: 25100 | F39: 58500 | G39: 64000 | H39: 115000 | I39: 72000 | J39: 132000 | K39: 218000
A40: Issuance (repurchase) of common stock | B40: -761100 | C40: -985200 | D40: -1248000 | E40: -649200 | F40: -741200 | G40: -1859000 | H40: -1814000 | I40: -1674000 | J40: -2628000 | K40: -2534000
A41: Dividends - common & preferred | B41: -290900 | C41: -343700 | D41: -412900 | E41: -466700 | F41: -505400 | G41: -555000 | H41: -619000 | I41: -703000 | J41: -799000 | K41: -899000
A42: Net cash flows from financing activities | B42: -850900 | C42: -1111500 | D42: -1226100 | E42: -733900 | F42: -1061200 | G42: -1972000 | H42: -2118000 | I42: -1040000 | J42: -2914000 | K42: -2790000
...

Sheet Past Performance Analysis
C3: 2006 | D3: 2007 | E3: 2008 | F3: 2009 | G3: 2010 | H3: 2011 | I3: 2012 | J3: 2013 | K3: 2014 | L3: 2015
A4: YoY revenue growth --> | D4: =(IS!C7-IS!B7)/IS!B7 -> 0.091675638 | E4: =(IS!D7-IS!C7)/IS!C7 -> 0.14094782 | F4: =(IS!E7-IS!D7)/IS!D7 -> 0.029478714 | G4: =(IS!F7-IS!E7)/IS!E7 -> -0.0084532308 | H4: =(IS!G7-IS!F7)/IS!F7 -> 0.097191543 | I4: =(IS!H7-IS!G7)/IS!G7 -> 0.15655258 | J4: =(IS!I7-IS!H7)/IS!H7 -> 0.049113064 | K4: =(IS!J7-IS!I7)/IS!I7 -> 0.098210406 | L4: =(IS!K7-IS!J7)/IS!J7 -> 0.10079499
A5: To calculate GEOMEAN | B5: 1 | D5: =$B$5+D4 -> 1.0916756 | E5: =$B$5+E4 -> 1.1409478 | F5: =$B$5+F4 -> 1.0294787 | G5: =$B$5+G4 -> 0.99154677 | H5: =$B$5+H4 -> 1.0971915 | I5: =$B$5+I4 -> 1.1565526 | J5: =$B$5+J4 -> 1.0491131 | K5: =$B$5+K4 -> 1.0982104 | L5: =$B$5+L4 -> 1.100795
A6: Revenue growth A.M. (07'-15') | B6: =AVERAGE(D4:L4) -> 0.083945725
A7: Revenue growth G.M. (07'-15') | B7: =GEOMEAN(D5:L5)-1 -> 0.082804954
A9: Sales to Capital

Sheet Beta & CAPM-ER
A1: ***Please check this file has three other sheets for Work and the sheet with initial Assumptions (Five Sheets total)***
A2: ****You can assume the Risk-Free is 2% and MRP is 5% or you can calculate both parameters if you wish to do so. (MRP = Expected Return of the Market - RiskFree Rate) (Rf you can use 10Yr-TreasuryBond)
A3: ****You can get the price data below from Yahoo Finance:
A4: Yahoo Finance -> Historical Data | I4: Covariance of Stock and Market | J4: =_xlfn.COVARIANCE.P(E11:E46,F11:F46) -> 0.00074770697 | K4: *You can use Excel Formula "COVARIANCE.P"
A5: Frequency -> Monthly | I5: Variance of Market | J5: =_xlfn.VAR.P(F11:F46) -> 0.00087902981 | K5: *You can use Excel Formula "VAR.P"
A6: Time Period: December 31st, 2013 to December 31st, 2016 | I6: Stock Beta | J6: =J4/J5 -> 0.8506048 | K6: Beta = CovarianceStock,Market / VarianceMarket
A7: Download Data | I7: CAPM E[R] | J7: =0.02+J6*(0.05-0.02) -> 0.045518144 | K7: E[R] = Rf + Beta*(Market Risk Premium)
A8: Must choose ***Adj Close
E9: (P1-P0)/P0 or P1/P0 - 1
B10: Stock Price | C10: Market "Price" | E10: Stock Return | F10: Market Return
A11: 42735 | B11: 140.71 | C11: 2278.87 | E11: =(B11-B12)/B12 -> 0.13659128 | F11: =(C11-C12)/C12 -> 0.017884341
A12: 42704 | B12: 123.8 | C12: 2238.83 | E12: =(B12-B13)/B13 -> 0.058119658 | F12: =(C12-C13)/C13 -> 0.018200754
A13: 42674 | B13: 117 | C13: 2198.81 | E13: =(B13-B14)/B14 -> -0.063025547 | F13: =(C13-C14)/C14 -> 0.034174447
A14: 42643 | B14: 124.87 | C14: 2126.15 | E14: =(B14-B15)/B15 -> 0.26707255 | F14: =(C14-C15)/C15 -> -0.019425625
A15: 42613 | B15: 98.55 | C15: 2168.27 | E15: =(B15-B16)/B16 -> 0.01128784 | F15: =(C15-C16)/C16 -> -0.0012344826
A16: 42582 | B16: 97.45 | C16: 2170.95 | E16: =(B16-B17)/B17 -> 0.067945205 | F16: =(C16-C17)/C17 -> -0.0012191756
A17: 42551 | B17: 91.25 | C17: 2173.6 | E17: =(B17-B18)/B18 -> -0.0025142108 | F17: =(C17-C18)/C18 -> 0.035609807
A18: 42521 | B18: 91.48 | C18: 2098.86 | E18: =(B18-B19)/B19 -> -0.10812128 | F18: =(C18-C19)/C19 -> 0.00091084671
A19: 42490 | B19: 102.57 | C19: 2096.95 | E19: =(B19-B20)/B20 -> 0.1392869 | F19: =(C19-C20)/C20 -> 0.01532465
A20: 42460 | B20: 90.03 | C20: 2065.3 | E20: =(B20-B21)/B21 -> -0.11933875 | F20: =(C20-C21)/C21 -> 0.0026993698
A21: 42429 | B21: 102.23 | C21: 2059.74 | E21: =(B21-B22)/B22 -> 0.094422439 | F21: =(C21-C22)/C22 -> 0.065991109
A22: 42400 | B22: 93.41 | C22: 1932.23 | E22: =(B22-B23)/B23 -> 0.017094948 | F22: =(C22-C23)/C23 -> -0.0041283553
... A46: 41670 | B46: 63.66 | C46: 1859.45 | E46: =(B46-B47)/B47 -> 0.088577291 | F46: =(C46-C47)/C47 -> 0.043117038
A47: 41639 | B47: 58.48 | C47: 1782.59

Sheet DDM Val Method
B1: ***Please check this file has three other sheets for Work and the sheet with initial Assumptions (Five Sheets total)***
A3: **Remember the discount rate used in DDM is the expected return of investors
A4: **Hint to get supernomal growth rate? What is the average of previous years growth rate of dividends?
A5: **According to your qualitative research. How long do you think this business cycle will last?
A6: This time, D1 will be D0 (Dividend of 2016) * (1 = g.supernormal)
A8: Dividends
A9: TICKER | B9: 2012 | C9: 2013 | D9: 2014 | E9: 2015 | F9: 2016 | J9: D1 | K9: …
A10: NFLX | B10: 0 | C10: 0 | D10: 0 | E10: 0 | F10: 0 | J10: =F10*(1+J11) -> 0 | K10: …
A11: g | C11: 0 | D11: 0 | E11: 0 | F11: 0 | J11: =AVERAGE(C11:F11) -> 0

Sheet PE Val Method
A1: ***Please check this file has three other sheets for Work and the sheet with initial Assumptions (Five Sheets total)***
Q2: You can get this EPS1 from your DCF (NOPAT - Interest Expense for 2017)
A3: ***Average P/E ratio must also consider industry-peers ratios. | Q3: It is also ok for this project if you assume EPS2016 *(1+SuperNormalGrowthRate)
A6: EPS | H6: PE Ratios of Industry-Peers (Average of at least 3 firms) | P6: EPS1 | Q6: Average PE Ratio of Industry | R6: PE Value
A7: TICKER | B7: 2012 | C7: 2013 | D7: 2014 | E7: 2015 | F7: 2016 | H7: TICKER | I7: 2012 | J7: 2013 | K7: 2014 | L7: 2015 | M7: 2016 | P7: 2017 | Q7: 2017 | R7: 2017
A8: NFLX | B8: 0.31 | C8: 1.93 | D8: 4.44 | E8: 0.29 | F8: 0.44 | H8: AVERAGE | I8: -0.09 | J8: 0.6 | K8: -0.52 | L8: 1.28 | M8: 5.01 | P8: 1.03 | Q8: 95.2 | R8: 100.96

Sheet Assumptions
A5: WACC Estimation | E5: ***If Highlighted in Yellow: Needs your Input Manually
A6: Equity Ratio | B6: 0.4
A7: Debt Ratio | B7: 0.6
A8: Effective Tax Rate | B8: 0.35 | C8: *You can also look it up online and change for more accuracy
A9: Average Cost of Debt (Average PreTax) | B9: 0.02 | C9: *You can also look it up online and change for more accuracy
A10: WACC | B10: =(B7*B9*(1-B8))+B6*B15 -> 0.026007258
A11: Cost of Equity Estimation
A12: Risk Free Rate | B12: 0.02
A13: Market Risk Premium | B13: 0.05
A14: Beta (Coming from sheet "Beta & CAPM-ER") | B14: ='Beta & CAPM-ER'!J6 -> 0.8506048
A15: Cost of Equity Estimation (CAPM E[R]) | B15: ='Beta & CAPM-ER'!J7 -> 0.045518144
A16: Proformas Estimation
A17: COGS to Sales | B17: 0.5 | C17: *What is 2016 COGS-to-Sales?
A18: Projected Depeciation Rate | B18: 0.05 | C18: *What is 2016 depreciation rate (depreciation expense / fixed assets for simplicity)?
A19: *Expense to Sales (except depreciation) | B19: 0.2 | C19: *What is 2016 Expense-to-Sales (exclude depreciation)?
A20: Growth of Fixed Assets | B20: 0.05 | C20: *What has been the growth rate of fixed assets (use total)? (i.e. compare Fixed Assets of 2015 and 2016)
A21: Growth of Capital Expenditures | B21: 0.05 | C21: *What has been the growth rate of Capital Expenditures (use total)? (i.e. compare Fixed Assets of 2015 and 2016)
A22: Number of Shares of the firm | B22: 2000000 | C22: *As of today
A23: Super Normal Growth Rate | B23: 0.1 | C23: *Assume a super normal growth rate and provide your arguments in the qualitative portion of the project
A24: Long-Term Growth rate | B24: 0.02 | C24: *Assume a long-term growth rate and provide your arguments in the qualitative portion of the project

Sheet DCF Valuation
A2: Free Cash Flows and Valuation Summary
A3: ***This sheet is intended to provide you with an idea of valuation using DCF. Several of the parameters are assumed and/or fixed-through-time for simplicity
A4: ***Complete 2017 with data from Financial Statements of your Firm. 2018 will be filled automatically after you have input parameters in "Assumptions" sheet.
A5: ***Terminal Value (in 2021) should be calculated automatically after you have chosen the relevant parameters as well.
A7: Fixed Assets (You will need this field to calculate depreciation expense) | B7: 17673153000 | C7: =B7*1.05 -> 18556810650 | D7: =C7*1.05 -> 1.9484651e+10 | E7: =D7*1.05 -> 2.0458884e+10 | F7: =E7*1.05 -> 2.1481828e+10
B9: T0 (2017) | C9: T1 (2018) | D9: T2 (2019) | E9: T3 (2020) | F9: T4 (2021)
A10: Revenues | B10: 11692713000 | C10: =B10*(1+Assumptions!$B$23) -> 1.2861984e+10 | D10: =C10*(1+Assumptions!$B$23) -> 1.4148183e+10 | E10: =D10*(1+Assumptions!$B$23) -> 1.5563001e+10 | F10: =E10*(1+Assumptions!$B$23) -> 1.7119301e+10
A11: - Cost of Goods Sold | B11: 7659666000 | C11: =C10*Assumptions!$B$17 -> 6.4309922e+09 | D11: =D10*Assumptions!$B$17 -> 7.0740914e+09 | E11: =E10*Assumptions!$B$17 -> 7.7815005e+09 | F11: =F10*Assumptions!$B$17 -> 8.5596506e+09
A12: = Gross Margin | B12: =B10-B11 -> 4033047000 | C12: =C10-C11 -> 6.4309922e+09 | D12: =D10-D11 -> 7.0740914e+09 | E12: =E10-E11 -> 7.7815005e+09 | F12: =F10-F11 -> 8.5596506e+09
A13: - Depreciation & Amortization | B13: 633038500 | C13: =C7*Assumptions!$B$18 -> 9.2784053e+08 | D13: =D7*Assumptions!$B$18 -> 9.7423256e+08 | E13: =E7*Assumptions!$B$18 -> 1.0229442e+09 | F13: =F7*Assumptions!$B$18 -> 1.0740914e+09
A14: - All Other Expenses except Interest (for simplicity ) | B14: 2.4684602e+09 | C14: =C10*Assumptions!$B$19 -> 2.5723969e+09 | D14: =D10*Assumptions!$B$19 -> 2.8296365e+09 | E14: =E10*Assumptions!$B$19 -> 3.1126002e+09 | F14: =F10*Assumptions!$B$19 -> 3.4238602e+09
A15: = EBIT: | B15: =B12-B13-B14 -> 9.3154833e+08 | C15: =C12-C13-C14 -> 2.9307548e+09 | D15: =D12-D13-D14 -> 3.2702223e+09 | E15: =E12-E13-E14 -> 3.6459561e+09 | F15: =F12-F13-F14 -> 4.0616989e+09
A16: - Taxes | B16: =-B15*0.4 -> -3.7261933e+08 | C16: =-C15*Assumptions!$B$8 -> -1.0257642e+09 | D16: =-D15*Assumptions!$B$8 -> -1.1445778e+09 | E16: =-E15*Assumptions!$B$8 -> -1.2760846e+09 | F16: =-F15*Assumptions!$B$8 -> -1.4215946e+09
A17: NOPAT | B17: =B15+B16 -> 5.58929e+08 | C17: =C15+C16 -> 1.9049906e+09 | D17: =D15+D16 -> 2.1256445e+09 | E17: =E15+E16 -> 2.3698715e+09 | F17: =F15+F16 -> 2.6401043e+09
A18: + Depreciation & Amortization | B18: =B13 -> 633038500 | C18: =C13 -> 9.2784053e+08 | D18: =D13 -> 9.7423256e+08 | E18: =E13 -> 1.0229442e+09 | F18: =F13 -> 1.0740914e+09
A19: - Increases to Working Capital (you can assume 0 for this project) | B19: 0 | C19: 0
A20: - CAPEX | B20: 34329000 | C20: =B20*(1+Assumptions!$B$21) -> 36045450 | D20: =C20*(1+Assumptions!$B$21) -> 37847722 | E20: =D20*(1+Assumptions!$B$21) -> 39740109 | F20: =E20*(1+Assumptions!$B$21) -> 41727114
A21: Free Cash Flows | B21: =SUM(B17:B20) -> 1.2262965e+09 | C21: =SUM(C17:C20) -> 2.8688766e+09 | D21: =SUM(D17:D20) -> 3.1377248e+09 | E21: =SUM(E17:E20) -> 3.4325558e+09 | F21: =SUM(F17:F20) -> 3.7559228e+09
A22: Terminal Value | F22: =(F21*(1+Assumptions!B24)/(Assumptions!B10-Assumptions!B24)) -> 6.3773548e+11
A23: Total | B23: =B21+B22 -> 1.2262965e+09 | C23: =C21+C22 -> 2.8688766e+09 | D23: =D21+D22 -> 3.1377248e+09 | E23: =E21+E22 -> 3.4325558e+09 | F23: =F21+F22 -> 6.414914e+11
A25: Year | B25: 0 | C25: 1 | D25: 2 | E25: 3 | F25: 4
A26: Present Value of Free Cash Flows | C26: =C23/(1+Assumptions!$B$10)^'DCF Valuation'!C25 -> 2.7961562e+09 | D26: =D23/(1+Assumptions!$B$10)^'DCF Valuation'!D25 -> 2.9806706e+09 | E26: =E23/(1+Assumptions!$B$10)^'DCF Valuation'!E25 -> 3.1780908e+09 | F26: =F23/(1+Assumptions!$B$10)^'DCF Valuation'!F25 -> 5.7888075e+11
A29: PV of FCFs and Terminal Value | B29: =SUM(C26:F26) -> 5.8783567e+11
A30: Add Back Initial Cash | B30: -32643000
A31: Firm's Value | B31: =B29+B30 -> 5.8780302e+11
A32: Subtract year 0 Debt | B32: -15430786000
A33: Equity Value | B33: =B31+B32 -> 5.7237224e+11
A34: Number of Outstanding Shares | B34: 1871396000
A35: Value per Share | B35: =B33/B34 -> 305.85308

Sheet 2 other valuation models
A4: DDM | B4: Do is dividend paid on 2015 FY. Estimate D1 to D5 using growth in NE for each year. Use terminal period. Discount using Re
A5: P/E
A6: EVA | B6: Present it not as a model but as a measure that indicates that company's value increases overtime. Calculate EVA % (EVA/Capital)

Sheet To dos
B3: Chris will provide me with Beta and Risk Free Rate
B5: Fore 2016 to 2020, the annual increase in EBIT margin is due to reductions in COS and Demand creation expense (DCE). 75% COS and 25% DCE
A6: 1 | B6: create EVA Schedule
A7: 3 | B7: present I/S, BS and SCFs included in latest 10K in appendix
